Workbook

Sheet Resultados
A2: VIII Carrera San Silvestre | H2: 45654
A4: Puesto | B4: Columna1 | C4: Dorsal | D4: Columna2 | E4: Tiempo | F4: Columna3 | G4: Nombre | H4: Categoría
A5: 1 | B5: 21 | C5: 269 | D5: 1 | E5: 00:16:49.953 | G5: =VLOOKUP(C5,Inscripciones!$A$2:$C$802,2,0) -> ISMAEL SáNCHEZ MONTES | H5: =VLOOKUP(C5,Inscripciones!$A$2:$E$802,5,0) -> GENERAL MASCULINA
A6: 2 | B6: 21 | C6: 48 | D6: 1 | E6: 00:17:15.458 | G6: =VLOOKUP(C6,Inscripciones!$A$2:$C$802,2,0) -> JAIME RAMIREZ PEDRAZA | H6: =VLOOKUP(C6,Inscripciones!$A$2:$E$802,5,0) -> GENERAL MASCULINA
A7: 3 | B7: 21 | C7: 247 | D7: 1 | E7: 00:17:41.420 | G7: =VLOOKUP(C7,Inscripciones!$A$2:$C$802,2,0) -> JAVIER TORRES SáNCHEZ | H7: =VLOOKUP(C7,Inscripciones!$A$2:$E$802,5,0) -> GENERAL MASCULINA
A8: 4 | B8: 21 | C8: 271 | D8: 1 | E8: 00:17:52.826 | G8: =VLOOKUP(C8,Inscripciones!$A$2:$C$802,2,0) -> PEDRO LUQUE ORTIZ DE GALISTEO | H8: =VLOOKUP(C8,Inscripciones!$A$2:$E$802,5,0) -> SUB 16 MASCULINO
A9: 5 | B9: 21 | C9: 15 | D9: 1 | E9: 00:17:54.616 | G9: =VLOOKUP(C9,Inscripciones!$A$2:$C$802,2,0) -> ANTONIO MARQUEZ LOPEZ | H9: =VLOOKUP(C9,Inscripciones!$A$2:$E$802,5,0) -> GENERAL MASCULINA
A10: 6 | B10: 21 | C10: 227 | D10: 1 | E10: 00:17:55.918 | G10: =VLOOKUP(C10,Inscripciones!$A$2:$C$802,2,0) -> DAVID JIMENEZ FERNANDEZ | H10: =VLOOKUP(C10,Inscripciones!$A$2:$E$802,5,0) -> GENERAL MASCULINA
A11: 7 | B11: 21 | C11: 192 | D11: 1 | E11: 00:18:34.672 | G11: =VLOOKUP(C11,Inscripciones!$A$2:$C$802,2,0) -> RAFAEL MESA GARRIDO | H11: =VLOOKUP(C11,Inscripciones!$A$2:$E$802,5,0) -> GENERAL MASCULINA
A12: 8 | B12: 21 | C12: 213 | D12: 1 | E12: 00:19:04.653 | G12: =VLOOKUP(C12,Inscripciones!$A$2:$C$802,2,0) -> MARIA DEL MAR MARQUES CORDOBA | H12: =VLOOKUP(C12,Inscripciones!$A$2:$E$802,5,0) -> GENERAL FEMENINA
A13: 9 | B13: 21 | C13: 285 | D13: 1 | E13: 00:19:05.680 | G13: =VLOOKUP(C13,Inscripciones!$A$2:$C$802,2,0) -> RAFAEL SANCHEZ FERNANDEZ | H13: =VLOOKUP(C13,Inscripciones!$A$2:$E$802,5,0) -> GENERAL MASCULINA
A14: 10 | B14: 21 | C14: 158 | D14: 1 | E14: 00:19:07.920 | G14: =VLOOKUP(C14,Inscripciones!$A$2:$C$802,2,0) -> SERGIO LUQUE RUZ | H14: =VLOOKUP(C14,Inscripciones!$A$2:$E$802,5,0) -> GENERAL MASCULINA
A15: 11 | B15: 21 | C15: 281 | D15: 1 | E15: 00:19:12.711 | G15: =VLOOKUP(C15,Inscripciones!$A$2:$C$802,2,0) -> RAFAEL ARROYO CARMONA | H15: =VLOOKUP(C15,Inscripciones!$A$2:$E$802,5,0) -> GENERAL MASCULINA
A16: 12 | B16: 21 | C16: 314 | D16: 1 | E16: 00:19:13.682 | G16: =VLOOKUP(C16,Inscripciones!$A$2:$C$802,2,0) -> NATALIA RAMíREZ PEDRAZA | H16: =VLOOKUP(C16,Inscripciones!$A$2:$E$802,5,0) -> GENERAL FEMENINA
... A218: 214 | B218: 21 | C218: 91 | D218: 1 | E218: 00:47:51.982 | G218: =VLOOKUP(C218,Inscripciones!$A$2:$C$802,2,0) -> JOSE A. RODRIGUEZ MERINO | H218: =VLOOKUP(C218,Inscripciones!$A$2:$E$802,5,0) -> GENERAL MASCULINA
B219: 21 | G219: =VLOOKUP(C219,Inscripciones!$A$2:$C$802,2,0) -> #N/A | H219: =VLOOKUP(C219,Inscripciones!$A$2:$E$802,5,0) -> #N/A
B220: 21 | G220: =VLOOKUP(C220,Inscripciones!$A$2:$C$802,2,0) -> #N/A | H220: =VLOOKUP(C220,Inscripciones!$A$2:$E$802,5,0) -> #N/A
B221: 21 | G221: =VLOOKUP(C221,Inscripciones!$A$2:$C$802,2,0) -> #N/A | H221: =VLOOKUP(C221,Inscripciones!$A$2:$E$802,5,0) -> #N/A
B222: 21 | G222: =VLOOKUP(C222,Inscripciones!$A$2:$C$802,2,0) -> #N/A | H222: =VLOOKUP(C222,Inscripciones!$A$2:$E$802,5,0) -> #N/A
B223: 21 | G223: =VLOOKUP(C223,Inscripciones!$A$2:$C$802,2,0) -> #N/A | H223: =VLOOKUP(C223,Inscripciones!$A$2:$E$802,5,0) -> #N/A
B224: 21 | G224: =VLOOKUP(C224,Inscripciones!$A$2:$C$802,2,0) -> #N/A | H224: =VLOOKUP(C224,Inscripciones!$A$2:$E$802,5,0) -> #N/A
B225: 21 | G225: =VLOOKUP(C225,Inscripciones!$A$2:$C$802,2,0) -> #N/A | H225: =VLOOKUP(C225,Inscripciones!$A$2:$E$802,5,0) -> #N/A
B226: 21 | G226: =VLOOKUP(C226,Inscripciones!$A$2:$C$802,2,0) -> #N/A | H226: =VLOOKUP(C226,Inscripciones!$A$2:$E$802,5,0) -> #N/A
G227: =VLOOKUP(C227,Inscripciones!$A$2:$C$802,2,0) -> #N/A | H227: =VLOOKUP(C227,Inscripciones!$A$2:$E$802,5,0) -> #N/A
G228: =VLOOKUP(C228,Inscripciones!$A$2:$C$802,2,0) -> #N/A | H228: =VLOOKUP(C228,Inscripciones!$A$2:$E$802,5,0) -> #N/A
G229: =VLOOKUP(C229,Inscripciones!$A$2:$C$802,2,0) -> #N/A | H229: =VLOOKUP(C229,Inscripciones!$A$2:$E$802,5,0) -> #N/A
G230: =VLOOKUP(C230,Inscripciones!$A$2:$C$802,2,0) -> #N/A | H230: =VLOOKUP(C230,Inscripciones!$A$2:$E$802,5,0) -> #N/A
G231: =VLOOKUP(C231,Inscripciones!$A$2:$C$802,2,0) -> #N/A | H231: =VLOOKUP(C231,Inscripciones!$A$2:$E$802,5,0) -> #N/A
G232: =VLOOKUP(C232,Inscripciones!$A$2:$C$802,2,0) -> #N/A | H232: =VLOOKUP(C232,Inscripciones!$A$2:$E$802,5,0) -> #N/A
G233: =VLOOKUP(C233,Inscripciones!$A$2:$C$802,2,0) -> #N/A | H233: =VLOOKUP(C233,Inscripciones!$A$2:$E$802,5,0) -> #N/A
G234: =VLOOKUP(C234,Inscripciones!$A$2:$C$802,2,0) -> #N/A | H234: =VLOOKUP(C234,Inscripciones!$A$2:$E$802,5,0) -> #N/A
G235: =VLOOKUP(C235,Inscripciones!$A$2:$C$802,2,0) -> #N/A | H235: =VLOOKUP(C235,Inscripciones!$A$2:$E$802,5,0) -> #N/A
G236: =VLOOKUP(C236,Inscripciones!$A$2:$C$802,2,0) -> #N/A | H236: =VLOOKUP(C236,Inscripciones!$A$2:$E$802,5,0) -> #N/A
G237: =VLOOKUP(C237,Inscripciones!$A$2:$C$802,2,0) -> #N/A | H237: =VLOOKUP(C237,Inscripciones!$A$2:$E$802,5,0) -> #N/A
G238: =VLOOKUP(C238,Inscripciones!$A$2:$C$802,2,0) -> #N/A | H238: =VLOOKUP(C238,Inscripciones!$A$2:$E$802,5,0) -> #N/A
... G425: =VLOOKUP(C425,Inscripciones!$A$2:$C$802,2,0) -> #N/A | H425: =VLOOKUP(C425,Inscripciones!$A$2:$E$802,5,0) -> #N/A

Sheet Inscripciones
A1: Dorsal | B1: Nombre y Apellidos | C1: DNI | D1: Fecha de Nacimiento | E1: Categoría
A2: 1 | B2: ÁNGELA GÓMEZ GARCÍA | E2: GENERAL FEMENINA
A3: 2 | B3: MIGUEL SÁNCHEZ CASTRO | E3: GENERAL MASCULINA
A4: 3 | B4: LAURA SÁNCHEZ GÓMEZ | E4: SUB 12 FEMENINA
A5: 4 | B5: MARÍA SÁNCHEZ GÓMEZ | E5: SUB 16 FEMENINA
A6: 5 | B6: ANA SÁNCHEZ CASTRO | E6: GENERAL FEMENINA
A7: 6 | B7: MIGUEL MÁRQUEZ GALLEGOS | E7: SUB 6 MASCULINA
A8: 7 | B8: LUIS MÁRQUEZ GALLEGOS | E8: SUB 6 MASCULINA
A9: 8 | B9: SANDRA PéREZ ZAMORA | E9: GENERAL FEMENINA
A10: 9 | B10: JAIME CORDON MORENO | E10: GENERAL MASCULINA
A11: 10 | B11: JOSE LUIS CANO MUÑOZ | E11: GENERAL MASCULINA
A12: 11 | B12: CARLOTA CANO BAENA | E12: SUB 8 FEMENINO
A13: 12 | B13: ELISEA CANO BAENA | E13: SUB 6 FEMENINO
... A56: 55 | B56: JOSE DE LA TORRE | E56: GENERAL MASCULINA
A57: 56
A58: 57
A59: 58
A60: 59
A61: 60
A62: 61
A63: 62
A64: 63 | B64: ALICIA GALISTEO ALCAIDE | E64: GENERAL FEMENINA
A65: 64 | B65: ANTXOKA RAYA AMOR | E65: GENERAL MASCULINA
A66: 65 | B66: JOSE MARIA GARRIDO MARMOL | E66: GENERAL MASCULINA
A67: 66 | B67: IMANOL CASTRO CASADO | E67: GENERAL MASCULINA
A68: 67 | B68: BELEN CASTRO CASADO | E68: GENERAL FEMENINA
A69: 68 | B69: MIGUEL RUZ HERRADOR | E69: GENERAL MASCULINA
A70: 69 | B70: DAVID ESPINOSA CEA | E70: GENERAL MASCULINA
A71: 70 | B71: PABLO CALIZ RAMIREZ | E71: GENERAL MASCULINA
A72: 71 | B72: GABRIEL GÜETO CABELLO | E72: SUB 10 MASCULINO
A73: 72 | B73: JUAN MUÑOZ LORIGUILLO | E73: SUB 10 MASCULINO
A74: 73 | B74: JUAN MUÑOZ BAENA | E74: GENERAL MASCULINA
A75: 74 | B75: LUCAS MUÑOZ LORIGUILLO | E75: SUB 8 MASCULINO
... A107: 106 | B107: INMACULADA CASTRO ESPEJO | E107: GENERAL FEMENINA
A108: 107
A109: 108
A110: 109
A111: 110
A112: 111
A113: 112
A114: 113
A115: 114
A116: 115
A117: 116
A118: 117
A119: 118
... A126: 125
A127: 126 | B127: CARLOS LIZANA HIDALGO | E127: GENERAL MASCULINA
A128: 127 | B128: CARLOS BELLIDO PEREZ | E128: GENERAL MASCULINA
A129: 128 | B129: RAFA LEIVA DOMINGUEZ | E129: GENERAL MASCULINA
A130: 129 | B130: CLARA ISABEL LUQUE HIDALGO | E130: GENERAL FEMENINA
A131: 130 | B131: ALBERTO RíOS LUQUE | E131: GENERAL MASCULINA
A132: 131 | B132: PATRICIA GALáN GALáN | E132: GENERAL FEMENINA
A133: 132 | B133: NURIA MOLINA ESPEJO | E133: GENERAL FEMENINA
A134: 133 | B134: ESTELA MAILLO LARA | E134: GENERAL FEMENINA
A135: 134 | B135: MARI LUZ MAILLO LARA | E135: GENERAL FEMENINA
A136: 135 | B136: TAMARA MARTOS GOMEZ | E136: GENERAL FEMENINA
A137: 136 | B137: MANUEL MEJíAS ROSA | E137: GENERAL MASCULINA
A138: 137 | B138: JOSé ANTONIO ROMERO ROMERO | E138: GENERAL MASCULINA
... A361: 360 | B361: MARíA BAUTISTA MARTíN | E361: GENERAL FEMENINA
A362: 361
A363: 362
A364: 363
A365: 364
A366: 365
A367: 366
A368: 367
A369: 368
A370: 369
A371: 370
A372: 371
A373: 372
... A400: 399
